BEGIN:VCALENDAR
VERSION:2.0
PRODID:ics.py 0.8.0-dev0 - http://git.io/lLljaA
BEGIN:VEVENT
DTSTART:20220720T160000Z
DURATION:PT1H
SUMMARY:SunPy Community Call
UID:7496d1af-9f21-435a-9c1d-128863c23a71@7496.org
DESCRIPTION:The weekly community call for the SunPy Project.\nIt is always 
 at 5pm British Time (UTC+1 in the summer\, UTC in the winter) on 
 Wednesdays.
URL:https://sunpy.org/meeting
DTSTAMP:20260402T030031Z
RRULE:FREQ=WEEKLY;BYDAY=WE;INTERVAL=1
END:VEVENT
NAME:SunPy Community Calendar
X-WR-CALNAME:SunPy Community Calendar
END:VCALENDAR
